BEGIN:VCALENDAR
VERSION:2.0
CALSCALE:GREGORIAN
PRODID:-//Chapel Services//EN

BEGIN:VEVENT
UID:20250218T093000@chapel
DTSTART:20250218T093000
DTEND:20250218T113000
SUMMARY:Chapel Service
END:VEVENT

BEGIN:VEVENT
UID:20250318T093000@chapel
DTSTART:20250318T093000
DTEND:20250318T113000
SUMMARY:Chapel Service
END:VEVENT

BEGIN:VEVENT
UID:20250415T093000@chapel
DTSTART:20250415T093000
DTEND:20250415T113000
SUMMARY:Chapel Service
END:VEVENT

BEGIN:VEVENT
UID:20250520T093000@chapel
DTSTART:20250520T093000
DTEND:20250520T113000
SUMMARY:Chapel Service
END:VEVENT

BEGIN:VEVENT
UID:20250617T093000@chapel
DTSTART:20250617T093000
DTEND:20250617T113000
SUMMARY:Chapel Service
END:VEVENT

BEGIN:VEVENT
UID:20250701@chapel
DTSTART;VALUE=DATE:20250701
DTEND;VALUE=DATE:20250702
SUMMARY:No Chapel Service
DESCRIPTION:July – No Service
END:VEVENT

BEGIN:VEVENT
UID:20250819T093000@chapel
DTSTART:20250819T093000
DTEND:20250819T113000
SUMMARY:Chapel Service
END:VEVENT

BEGIN:VEVENT
UID:20250923T093000@chapel
DTSTART:20250923T093000
DTEND:20250923T113000
SUMMARY:Chapel Service
END:VEVENT

BEGIN:VEVENT
UID:20251021T093000@chapel
DTSTART:20251021T093000
DTEND:20251021T113000
SUMMARY:Chapel Service
END:VEVENT

BEGIN:VEVENT
UID:20251118T093000@chapel
DTSTART:20251118T093000
DTEND:20251118T113000
SUMMARY:Chapel Service
END:VEVENT

BEGIN:VEVENT
UID:20251209T093000@chapel
DTSTART:20251209T120000
DTEND:20251209T143000
SUMMARY:Chapel Christmas Lunch
END:VEVENT

END:VCALENDAR
